BEGIN:VCALENDAR
VERSION:2.0
PRODID:-//Chapitô - ECPv6.15.20//NONSGML v1.0//EN
CALSCALE:GREGORIAN
METHOD:PUBLISH
X-ORIGINAL-URL:https://chapito.org
X-WR-CALDESC:Eventos para Chapitô
REFRESH-INTERVAL;VALUE=DURATION:PT1H
X-Robots-Tag:noindex
X-PUBLISHED-TTL:PT1H
BEGIN:VTIMEZONE
TZID:Europe/Lisbon
BEGIN:DAYLIGHT
TZOFFSETFROM:+0000
TZOFFSETTO:+0100
TZNAME:WEST
DTSTART:20250330T010000
END:DAYLIGHT
BEGIN:STANDARD
TZOFFSETFROM:+0100
TZOFFSETTO:+0000
TZNAME:WET
DTSTART:20251026T010000
END:STANDARD
BEGIN:DAYLIGHT
TZOFFSETFROM:+0000
TZOFFSETTO:+0100
TZNAME:WEST
DTSTART:20260329T010000
END:DAYLIGHT
BEGIN:STANDARD
TZOFFSETFROM:+0100
TZOFFSETTO:+0000
TZNAME:WET
DTSTART:20261025T010000
END:STANDARD
BEGIN:DAYLIGHT
TZOFFSETFROM:+0000
TZOFFSETTO:+0100
TZNAME:WEST
DTSTART:20270328T010000
END:DAYLIGHT
BEGIN:STANDARD
TZOFFSETFROM:+0100
TZOFFSETTO:+0000
TZNAME:WET
DTSTART:20271031T010000
END:STANDARD
END:VTIMEZONE
BEGIN:VEVENT
DTSTART;TZID=Europe/Lisbon:20260220T210000
DTEND;TZID=Europe/Lisbon:20260220T220000
DTSTAMP:20260422T081714
CREATED:20260109T171829Z
LAST-MODIFIED:20260120T151837Z
UID:15784-1771621200-1771624800@chapito.org
SUMMARY:O ESPÍRITO DA RÃ AZUL E OUTROS CONTOS
DESCRIPTION:Espetáculo de teatro a partir de contos tradicionais japoneses. \nKaidanes\, ou histórias de fantasmas\, nascem de um jogo popular ancestral. Grupos de pessoas reuniam-se à noite para contar os mais estranhos e inexplicáveis contos que conheciam\, uma competição que acabaria por criar um género literário a partir de contos de várias partes do Japão e da China. \nEstas histórias bizarras incorporam a esperança de que o universo tenha uma espécie de mecanismo corretivo\, que as injustiças serão vingadas\, se não nesta vida\, na próxima. Se os fantasmas não existissem\, teríamos que inventá-los\, porque precisamos de fazer sentido da ideia de que o passado raramente segue em frente e desaparece. Talvez por isso estas narrativas exerçam sobre nós tamanho fascínio. \nOkamoto Kidô\, um dos mais originais autores da literatura popular nipónica\, dedicou grande parte da sua vida à investigação da mitologia popular japonesa. É autor de contos inspirados em lendas e mitos ancestrais\, conhecidos por kaidanes. Propomo-nos nesta criação partir do universo fantástico do autor\, em particular de três dos seus contos\, para criar um espetáculo para toda a família. \nCriação Colectiva\nEncenação Cláudia Nóvoa\, Susana Nunes e Tiago Viegas\nInterpretação Susana Nunes e Tiago Viegas\nDesenho de Luz Rita Louzeiro\nGrafismo Sílvio Rosado\nDivulgação Cristina Carvalho \nBilhetes à venda na Ticketline
URL:https://chapito.org/calendario/o-espirito-da-ra-azul-e-outros-contos-5/
LOCATION:Chapitô\, Costa do castelo\, -Lisboa\, Portugal
CATEGORIES:Espetáculos
ATTACH;FMTTYPE=image/jpeg:https://chapito.org/wp-content/uploads/2026/01/CARTA-FINAL-01-estreia.jpg
END:VEVENT
BEGIN:VEVENT
DTSTART;TZID=Europe/Lisbon:20260220T213000
DTEND;TZID=Europe/Lisbon:20260220T223000
DTSTAMP:20260422T081714
CREATED:20260127T170729Z
LAST-MODIFIED:20260127T170729Z
UID:15892-1771623000-1771626600@chapito.org
SUMMARY:Samba dos Democratas
DESCRIPTION:
URL:https://chapito.org/calendario/samba-dos-democratas-21/
LOCATION:Chapitô\, Costa do castelo\, -Lisboa\, Portugal
CATEGORIES:Música ao Vivo
ATTACH;FMTTYPE=image/jpeg:https://chapito.org/wp-content/uploads/2025/10/samba-do-democratas.jpg
END:VEVENT
END:VCALENDAR