BEGIN:VCALENDAR
VERSION:2.0
PRODID:-//Chapitô - ECPv6.15.20//NONSGML v1.0//EN
CALSCALE:GREGORIAN
METHOD:PUBLISH
X-ORIGINAL-URL:https://chapito.org
X-WR-CALDESC:Eventos para Chapitô
REFRESH-INTERVAL;VALUE=DURATION:PT1H
X-Robots-Tag:noindex
X-PUBLISHED-TTL:PT1H
BEGIN:VTIMEZONE
TZID:Europe/Lisbon
BEGIN:DAYLIGHT
TZOFFSETFROM:+0000
TZOFFSETTO:+0100
TZNAME:WEST
DTSTART:20250330T010000
END:DAYLIGHT
BEGIN:STANDARD
TZOFFSETFROM:+0100
TZOFFSETTO:+0000
TZNAME:WET
DTSTART:20251026T010000
END:STANDARD
BEGIN:DAYLIGHT
TZOFFSETFROM:+0000
TZOFFSETTO:+0100
TZNAME:WEST
DTSTART:20260329T010000
END:DAYLIGHT
BEGIN:STANDARD
TZOFFSETFROM:+0100
TZOFFSETTO:+0000
TZNAME:WET
DTSTART:20261025T010000
END:STANDARD
BEGIN:DAYLIGHT
TZOFFSETFROM:+0000
TZOFFSETTO:+0100
TZNAME:WEST
DTSTART:20270328T010000
END:DAYLIGHT
BEGIN:STANDARD
TZOFFSETFROM:+0100
TZOFFSETTO:+0000
TZNAME:WET
DTSTART:20271031T010000
END:STANDARD
END:VTIMEZONE
BEGIN:VEVENT
DTSTART;TZID=Europe/Lisbon:20260306T210000
DTEND;TZID=Europe/Lisbon:20260306T220000
DTSTAMP:20260421T183055
CREATED:20260210T183057Z
LAST-MODIFIED:20260211T152240Z
UID:15918-1772830800-1772834400@chapito.org
SUMMARY:DO LADO DE LÁ
DESCRIPTION:SINOPSE: \nEntre fronteiras visíveis e invisíveis\, “Do Lado de Lá” mergulha na experiência de quem decide partir. Um país imaginário promete perfeição\, mas o caminho até lá revela filas intermináveis\, identidades suspensas e corpos presos num sistema que desorienta\, controla e adia. Através do circo\, do movimento e da manipulação de objetos\, o espetáculo atravessa salas de espera\, corredores burocráticos e armadilhas simbólicas onde o tempo se arrasta e a esperança oscila. A burocracia transforma-se em coreografia; as cordas\, em fronteiras; o circo\, em metáfora de sobrevivência. Entre deslocamento e resistência\, o corpo torna-se território em disputa — suspenso entre a promessa de um futuro melhor e a frustração da espera. Num jogo constante entre controle e desejo de liberdade\, este espetáculo expõe a tensão de quem vive em trânsito. Entre a ansiedade de sair\, o medo de não pertencer e o impulso de atravessar\, “Do Lado de Lá” pergunta: O que realmente nos espera depois da fronteira?
URL:https://chapito.org/calendario/do-lado-de-la/
LOCATION:Chapitô\, Costa do castelo\, -Lisboa\, Portugal
CATEGORIES:Espetáculos
ATTACH;FMTTYPE=image/jpeg:https://chapito.org/wp-content/uploads/2026/02/do-lado-de-lá-cartaz-1.jpg
END:VEVENT
BEGIN:VEVENT
DTSTART;TZID=Europe/Lisbon:20260306T213000
DTEND;TZID=Europe/Lisbon:20260306T223000
DTSTAMP:20260421T183055
CREATED:20260218T182623Z
LAST-MODIFIED:20260218T182623Z
UID:15946-1772832600-1772836200@chapito.org
SUMMARY:Samba dos Democratas
DESCRIPTION:
URL:https://chapito.org/calendario/samba-dos-democratas-23/
LOCATION:Chapitô\, Costa do castelo\, -Lisboa\, Portugal
CATEGORIES:Música ao Vivo
ATTACH;FMTTYPE=image/jpeg:https://chapito.org/wp-content/uploads/2025/10/samba-do-democratas.jpg
END:VEVENT
END:VCALENDAR