BEGIN:VCALENDAR
VERSION:2.0
PRODID:-//Chapitô - ECPv6.15.20//NONSGML v1.0//EN
CALSCALE:GREGORIAN
METHOD:PUBLISH
X-ORIGINAL-URL:https://chapito.org
X-WR-CALDESC:Eventos para Chapitô
REFRESH-INTERVAL;VALUE=DURATION:PT1H
X-Robots-Tag:noindex
X-PUBLISHED-TTL:PT1H
BEGIN:VTIMEZONE
TZID:Europe/Lisbon
BEGIN:DAYLIGHT
TZOFFSETFROM:+0000
TZOFFSETTO:+0100
TZNAME:WEST
DTSTART:20250330T010000
END:DAYLIGHT
BEGIN:STANDARD
TZOFFSETFROM:+0100
TZOFFSETTO:+0000
TZNAME:WET
DTSTART:20251026T010000
END:STANDARD
BEGIN:DAYLIGHT
TZOFFSETFROM:+0000
TZOFFSETTO:+0100
TZNAME:WEST
DTSTART:20260329T010000
END:DAYLIGHT
BEGIN:STANDARD
TZOFFSETFROM:+0100
TZOFFSETTO:+0000
TZNAME:WET
DTSTART:20261025T010000
END:STANDARD
BEGIN:DAYLIGHT
TZOFFSETFROM:+0000
TZOFFSETTO:+0100
TZNAME:WEST
DTSTART:20270328T010000
END:DAYLIGHT
BEGIN:STANDARD
TZOFFSETFROM:+0100
TZOFFSETTO:+0000
TZNAME:WET
DTSTART:20271031T010000
END:STANDARD
END:VTIMEZONE
BEGIN:VEVENT
DTSTART;TZID=Europe/Lisbon:20260330T213000
DTEND;TZID=Europe/Lisbon:20260330T233000
DTSTAMP:20260421T164805
CREATED:20260210T191837Z
LAST-MODIFIED:20260327T183959Z
UID:15931-1774906200-1774913400@chapito.org
SUMMARY:Clube do Choro de Lisboa
DESCRIPTION:
URL:https://chapito.org/calendario/clube-do-choro-de-lisboa-78/
LOCATION:Chapitô\, Costa do castelo\, -Lisboa\, Portugal
CATEGORIES:Música ao Vivo
ATTACH;FMTTYPE=image/jpeg:https://chapito.org/wp-content/uploads/2022/02/barto3.jpg
END:VEVENT
END:VCALENDAR