BEGIN:VCALENDAR
VERSION:2.0
PRODID:-//Chapitô - ECPv6.15.20//NONSGML v1.0//EN
CALSCALE:GREGORIAN
METHOD:PUBLISH
X-ORIGINAL-URL:https://chapito.org
X-WR-CALDESC:Eventos para Chapitô
REFRESH-INTERVAL;VALUE=DURATION:PT1H
X-Robots-Tag:noindex
X-PUBLISHED-TTL:PT1H
BEGIN:VTIMEZONE
TZID:Europe/Lisbon
BEGIN:DAYLIGHT
TZOFFSETFROM:+0000
TZOFFSETTO:+0100
TZNAME:WEST
DTSTART:20250330T010000
END:DAYLIGHT
BEGIN:STANDARD
TZOFFSETFROM:+0100
TZOFFSETTO:+0000
TZNAME:WET
DTSTART:20251026T010000
END:STANDARD
BEGIN:DAYLIGHT
TZOFFSETFROM:+0000
TZOFFSETTO:+0100
TZNAME:WEST
DTSTART:20260329T010000
END:DAYLIGHT
BEGIN:STANDARD
TZOFFSETFROM:+0100
TZOFFSETTO:+0000
TZNAME:WET
DTSTART:20261025T010000
END:STANDARD
BEGIN:DAYLIGHT
TZOFFSETFROM:+0000
TZOFFSETTO:+0100
TZNAME:WEST
DTSTART:20270328T010000
END:DAYLIGHT
BEGIN:STANDARD
TZOFFSETFROM:+0100
TZOFFSETTO:+0000
TZNAME:WET
DTSTART:20271031T010000
END:STANDARD
END:VTIMEZONE
BEGIN:VEVENT
DTSTART;TZID=Europe/Lisbon:20260417T190000
DTEND;TZID=Europe/Lisbon:20260417T230000
DTSTAMP:20260421T164411
CREATED:20260320T153940Z
LAST-MODIFIED:20260320T153940Z
UID:16059-1776452400-1776466800@chapito.org
SUMMARY:TERRA CRIATIVA POP UP
DESCRIPTION:Em Abril\, a Associação Terra Criativa traz ao Chapitô uma Feira com Cerâmica\, Cestaria\, Cianotipia\, Tinturaria natural e outros artesanatos inspirados na natureza\, aproximando o público da produção artesanal.
URL:https://chapito.org/calendario/terra-criativa-pop-up/
LOCATION:Chapitô\, Costa do castelo\, -Lisboa\, Portugal
CATEGORIES:Espetáculos
ATTACH;FMTTYPE=image/jpeg:https://chapito.org/wp-content/uploads/2026/03/shop-makers.jpg
END:VEVENT
BEGIN:VEVENT
DTSTART;TZID=Europe/Lisbon:20260417T213000
DTEND;TZID=Europe/Lisbon:20260417T233000
DTSTAMP:20260421T164411
CREATED:20260318T171323Z
LAST-MODIFIED:20260327T184508Z
UID:16041-1776461400-1776468600@chapito.org
SUMMARY:Samba dos Democratas
DESCRIPTION:
URL:https://chapito.org/calendario/samba-dos-democratas-29/
LOCATION:Chapitô\, Costa do castelo\, -Lisboa\, Portugal
CATEGORIES:Música ao Vivo
ATTACH;FMTTYPE=image/jpeg:https://chapito.org/wp-content/uploads/2025/10/samba-do-democratas.jpg
END:VEVENT
END:VCALENDAR