BEGIN:VCALENDAR
VERSION:2.0
PRODID:-//Chapitô - ECPv6.15.20//NONSGML v1.0//EN
CALSCALE:GREGORIAN
METHOD:PUBLISH
X-WR-CALNAME:Chapitô
X-ORIGINAL-URL:https://chapito.org
X-WR-CALDESC:Eventos para Chapitô
REFRESH-INTERVAL;VALUE=DURATION:PT1H
X-Robots-Tag:noindex
X-PUBLISHED-TTL:PT1H
BEGIN:VTIMEZONE
TZID:Europe/Lisbon
BEGIN:DAYLIGHT
TZOFFSETFROM:+0000
TZOFFSETTO:+0100
TZNAME:WEST
DTSTART:20250330T010000
END:DAYLIGHT
BEGIN:STANDARD
TZOFFSETFROM:+0100
TZOFFSETTO:+0000
TZNAME:WET
DTSTART:20251026T010000
END:STANDARD
BEGIN:DAYLIGHT
TZOFFSETFROM:+0000
TZOFFSETTO:+0100
TZNAME:WEST
DTSTART:20260329T010000
END:DAYLIGHT
BEGIN:STANDARD
TZOFFSETFROM:+0100
TZOFFSETTO:+0000
TZNAME:WET
DTSTART:20261025T010000
END:STANDARD
BEGIN:DAYLIGHT
TZOFFSETFROM:+0000
TZOFFSETTO:+0100
TZNAME:WEST
DTSTART:20270328T010000
END:DAYLIGHT
BEGIN:STANDARD
TZOFFSETFROM:+0100
TZOFFSETTO:+0000
TZNAME:WET
DTSTART:20271031T010000
END:STANDARD
END:VTIMEZONE
BEGIN:VEVENT
DTSTART;TZID=Europe/Lisbon:20260413T190000
DTEND;TZID=Europe/Lisbon:20260413T200000
DTSTAMP:20260421T225758
CREATED:20260320T154448Z
LAST-MODIFIED:20260320T154448Z
UID:16066-1776106800-1776110400@chapito.org
SUMMARY:CINETENDINHA NA CINETENDA CHAPITÔ “Que Tal Cinema Queer! Como Estamos Disto?!”
DESCRIPTION:Com Fernando Santos (Deborah Krystall) \nDia 13 de Abril\, às 19h00
URL:https://chapito.org/calendario/cinetendinha-na-cinetenda-chapito-que-tal-cinema-queer-como-estamos-disto/
LOCATION:Chapitô\, Costa do castelo\, -Lisboa\, Portugal
CATEGORIES:Tertúlias
ATTACH;FMTTYPE=image/jpeg:https://chapito.org/wp-content/uploads/2026/03/QUe-tal-cinema-queer.jpg
END:VEVENT
END:VCALENDAR