BEGIN:VCALENDAR
VERSION:2.0
PRODID:-//Chapitô - ECPv6.15.20//NONSGML v1.0//EN
CALSCALE:GREGORIAN
METHOD:PUBLISH
X-WR-CALNAME:Chapitô
X-ORIGINAL-URL:https://chapito.org
X-WR-CALDESC:Eventos para Chapitô
REFRESH-INTERVAL;VALUE=DURATION:PT1H
X-Robots-Tag:noindex
X-PUBLISHED-TTL:PT1H
BEGIN:VTIMEZONE
TZID:Europe/Lisbon
BEGIN:DAYLIGHT
TZOFFSETFROM:+0000
TZOFFSETTO:+0100
TZNAME:WEST
DTSTART:20250330T010000
END:DAYLIGHT
BEGIN:STANDARD
TZOFFSETFROM:+0100
TZOFFSETTO:+0000
TZNAME:WET
DTSTART:20251026T010000
END:STANDARD
BEGIN:DAYLIGHT
TZOFFSETFROM:+0000
TZOFFSETTO:+0100
TZNAME:WEST
DTSTART:20260329T010000
END:DAYLIGHT
BEGIN:STANDARD
TZOFFSETFROM:+0100
TZOFFSETTO:+0000
TZNAME:WET
DTSTART:20261025T010000
END:STANDARD
BEGIN:DAYLIGHT
TZOFFSETFROM:+0000
TZOFFSETTO:+0100
TZNAME:WEST
DTSTART:20270328T010000
END:DAYLIGHT
BEGIN:STANDARD
TZOFFSETFROM:+0100
TZOFFSETTO:+0000
TZNAME:WET
DTSTART:20271031T010000
END:STANDARD
END:VTIMEZONE
BEGIN:VEVENT
DTSTART;TZID=Europe/Lisbon:20260304T213000
DTEND;TZID=Europe/Lisbon:20260304T223000
DTSTAMP:20260421T195322
CREATED:20260218T145351Z
LAST-MODIFIED:20260218T145351Z
UID:15937-1772659800-1772663400@chapito.org
SUMMARY:Encontro de Bambas | Quartas de Samba
DESCRIPTION:
URL:https://chapito.org/calendario/encontro-de-bambas-quartas-de-samba-36/
LOCATION:Chapitô\, Costa do castelo\, -Lisboa\, Portugal
CATEGORIES:Música ao Vivo
ATTACH;FMTTYPE=image/jpeg:https://chapito.org/wp-content/uploads/2023/09/encontro-de-bambas.jpg
END:VEVENT
BEGIN:VEVENT
DTSTART;TZID=Europe/Lisbon:20260306T210000
DTEND;TZID=Europe/Lisbon:20260306T220000
DTSTAMP:20260421T195322
CREATED:20260210T183057Z
LAST-MODIFIED:20260211T152240Z
UID:15918-1772830800-1772834400@chapito.org
SUMMARY:DO LADO DE LÁ
DESCRIPTION:SINOPSE: \nEntre fronteiras visíveis e invisíveis\, “Do Lado de Lá” mergulha na experiência de quem decide partir. Um país imaginário promete perfeição\, mas o caminho até lá revela filas intermináveis\, identidades suspensas e corpos presos num sistema que desorienta\, controla e adia. Através do circo\, do movimento e da manipulação de objetos\, o espetáculo atravessa salas de espera\, corredores burocráticos e armadilhas simbólicas onde o tempo se arrasta e a esperança oscila. A burocracia transforma-se em coreografia; as cordas\, em fronteiras; o circo\, em metáfora de sobrevivência. Entre deslocamento e resistência\, o corpo torna-se território em disputa — suspenso entre a promessa de um futuro melhor e a frustração da espera. Num jogo constante entre controle e desejo de liberdade\, este espetáculo expõe a tensão de quem vive em trânsito. Entre a ansiedade de sair\, o medo de não pertencer e o impulso de atravessar\, “Do Lado de Lá” pergunta: O que realmente nos espera depois da fronteira?
URL:https://chapito.org/calendario/do-lado-de-la/
LOCATION:Chapitô\, Costa do castelo\, -Lisboa\, Portugal
CATEGORIES:Espetáculos
ATTACH;FMTTYPE=image/jpeg:https://chapito.org/wp-content/uploads/2026/02/do-lado-de-lá-cartaz-1.jpg
END:VEVENT
BEGIN:VEVENT
DTSTART;TZID=Europe/Lisbon:20260306T213000
DTEND;TZID=Europe/Lisbon:20260306T223000
DTSTAMP:20260421T195322
CREATED:20260218T182623Z
LAST-MODIFIED:20260218T182623Z
UID:15946-1772832600-1772836200@chapito.org
SUMMARY:Samba dos Democratas
DESCRIPTION:
URL:https://chapito.org/calendario/samba-dos-democratas-23/
LOCATION:Chapitô\, Costa do castelo\, -Lisboa\, Portugal
CATEGORIES:Música ao Vivo
ATTACH;FMTTYPE=image/jpeg:https://chapito.org/wp-content/uploads/2025/10/samba-do-democratas.jpg
END:VEVENT
BEGIN:VEVENT
DTSTART;TZID=Europe/Lisbon:20260307T210000
DTEND;TZID=Europe/Lisbon:20260307T220000
DTSTAMP:20260421T195322
CREATED:20260210T183217Z
LAST-MODIFIED:20260211T152221Z
UID:15921-1772917200-1772920800@chapito.org
SUMMARY:DO LADO DE LÁ
DESCRIPTION:SINOPSE: \nEntre fronteiras visíveis e invisíveis\, “Do Lado de Lá” mergulha na experiência de quem decide partir. Um país imaginário promete perfeição\, mas o caminho até lá revela filas intermináveis\, identidades suspensas e corpos presos num sistema que desorienta\, controla e adia. Através do circo\, do movimento e da manipulação de objetos\, o espetáculo atravessa salas de espera\, corredores burocráticos e armadilhas simbólicas onde o tempo se arrasta e a esperança oscila. A burocracia transforma-se em coreografia; as cordas\, em fronteiras; o circo\, em metáfora de sobrevivência. Entre deslocamento e resistência\, o corpo torna-se território em disputa — suspenso entre a promessa de um futuro melhor e a frustração da espera. Num jogo constante entre controle e desejo de liberdade\, este espetáculo expõe a tensão de quem vive em trânsito. Entre a ansiedade de sair\, o medo de não pertencer e o impulso de atravessar\, “Do Lado de Lá” pergunta: O que realmente nos espera depois da fronteira?
URL:https://chapito.org/calendario/do-lado-de-la-2/
LOCATION:Chapitô\, Costa do castelo\, -Lisboa\, Portugal
CATEGORIES:Espetáculos
ATTACH;FMTTYPE=image/jpeg:https://chapito.org/wp-content/uploads/2026/02/do-lado-de-lá-cartaz-1.jpg
END:VEVENT
BEGIN:VEVENT
DTSTART;TZID=Europe/Lisbon:20260309T213000
DTEND;TZID=Europe/Lisbon:20260309T223000
DTSTAMP:20260421T195322
CREATED:20260210T191550Z
LAST-MODIFIED:20260210T191550Z
UID:15925-1773091800-1773095400@chapito.org
SUMMARY:Clube do Choro de Lisboa
DESCRIPTION:
URL:https://chapito.org/calendario/clube-do-choro-de-lisboa-75/
LOCATION:Chapitô\, Costa do castelo\, -Lisboa\, Portugal
CATEGORIES:Música ao Vivo
ATTACH;FMTTYPE=image/jpeg:https://chapito.org/wp-content/uploads/2022/02/barto3.jpg
END:VEVENT
BEGIN:VEVENT
DTSTART;TZID=Europe/Lisbon:20260311T213000
DTEND;TZID=Europe/Lisbon:20260311T223000
DTSTAMP:20260421T195322
CREATED:20260218T145442Z
LAST-MODIFIED:20260218T145442Z
UID:15940-1773264600-1773268200@chapito.org
SUMMARY:Encontro de Bambas | Quartas de Samba
DESCRIPTION:
URL:https://chapito.org/calendario/encontro-de-bambas-quartas-de-samba-37/
LOCATION:Chapitô\, Costa do castelo\, -Lisboa\, Portugal
CATEGORIES:Música ao Vivo
ATTACH;FMTTYPE=image/jpeg:https://chapito.org/wp-content/uploads/2023/09/encontro-de-bambas.jpg
END:VEVENT
BEGIN:VEVENT
DTSTART;TZID=Europe/Lisbon:20260313T213000
DTEND;TZID=Europe/Lisbon:20260313T223000
DTSTAMP:20260421T195322
CREATED:20260218T182750Z
LAST-MODIFIED:20260218T182750Z
UID:15948-1773437400-1773441000@chapito.org
SUMMARY:Samba dos Democratas
DESCRIPTION:
URL:https://chapito.org/calendario/samba-dos-democratas-24/
LOCATION:Chapitô\, Costa do castelo\, -Lisboa\, Portugal
CATEGORIES:Música ao Vivo
ATTACH;FMTTYPE=image/jpeg:https://chapito.org/wp-content/uploads/2025/10/samba-do-democratas.jpg
END:VEVENT
BEGIN:VEVENT
DTSTART;TZID=Europe/Lisbon:20260314T213000
DTEND;TZID=Europe/Lisbon:20260314T223000
DTSTAMP:20260421T195322
CREATED:20260218T183008Z
LAST-MODIFIED:20260218T183008Z
UID:15954-1773523800-1773527400@chapito.org
SUMMARY:Colar de Rapariga
DESCRIPTION:
URL:https://chapito.org/calendario/colar-de-rapariga-2/
LOCATION:Chapitô\, Costa do castelo\, -Lisboa\, Portugal
CATEGORIES:Música ao Vivo
ATTACH;FMTTYPE=image/jpeg:https://chapito.org/wp-content/uploads/2025/05/barto.jpg
END:VEVENT
BEGIN:VEVENT
DTSTART;TZID=Europe/Lisbon:20260316T213000
DTEND;TZID=Europe/Lisbon:20260316T223000
DTSTAMP:20260421T195322
CREATED:20260210T191651Z
LAST-MODIFIED:20260210T191651Z
UID:15927-1773696600-1773700200@chapito.org
SUMMARY:Clube do Choro de Lisboa
DESCRIPTION:
URL:https://chapito.org/calendario/clube-do-choro-de-lisboa-76/
LOCATION:Chapitô\, Costa do castelo\, -Lisboa\, Portugal
CATEGORIES:Música ao Vivo
END:VEVENT
BEGIN:VEVENT
DTSTART;TZID=Europe/Lisbon:20260318T213000
DTEND;TZID=Europe/Lisbon:20260318T223000
DTSTAMP:20260421T195322
CREATED:20260218T145628Z
LAST-MODIFIED:20260218T145628Z
UID:15942-1773869400-1773873000@chapito.org
SUMMARY:Encontro de Bambas | Quartas de Samba
DESCRIPTION:
URL:https://chapito.org/calendario/encontro-de-bambas-quartas-de-samba-38/
LOCATION:Chapitô\, Costa do castelo\, -Lisboa\, Portugal
CATEGORIES:Música ao Vivo
ATTACH;FMTTYPE=image/jpeg:https://chapito.org/wp-content/uploads/2023/09/encontro-de-bambas.jpg
END:VEVENT
BEGIN:VEVENT
DTSTART;TZID=Europe/Lisbon:20260320T213000
DTEND;TZID=Europe/Lisbon:20260320T223000
DTSTAMP:20260421T195322
CREATED:20260218T182837Z
LAST-MODIFIED:20260218T182837Z
UID:15950-1774042200-1774045800@chapito.org
SUMMARY:Samba dos Democratas
DESCRIPTION:
URL:https://chapito.org/calendario/samba-dos-democratas-25/
LOCATION:Chapitô\, Costa do castelo\, -Lisboa\, Portugal
ATTACH;FMTTYPE=image/jpeg:https://chapito.org/wp-content/uploads/2025/10/samba-do-democratas.jpg
END:VEVENT
BEGIN:VEVENT
DTSTART;TZID=Europe/Lisbon:20260323T213000
DTEND;TZID=Europe/Lisbon:20260323T223000
DTSTAMP:20260421T195322
CREATED:20260210T191737Z
LAST-MODIFIED:20260210T191737Z
UID:15929-1774301400-1774305000@chapito.org
SUMMARY:Clube do Choro de Lisboa
DESCRIPTION:
URL:https://chapito.org/calendario/clube-do-choro-de-lisboa-77/
LOCATION:Chapitô\, Costa do castelo\, -Lisboa\, Portugal
CATEGORIES:Música ao Vivo
ATTACH;FMTTYPE=image/jpeg:https://chapito.org/wp-content/uploads/2022/02/barto3.jpg
END:VEVENT
BEGIN:VEVENT
DTSTART;TZID=Europe/Lisbon:20260324T193000
DTEND;TZID=Europe/Lisbon:20260324T203000
DTSTAMP:20260421T195322
CREATED:20260309T171749Z
LAST-MODIFIED:20260309T171749Z
UID:15967-1774380600-1774384200@chapito.org
SUMMARY:Cinetendinha na Cinetenda do Chapitô - "CINEMA E FOTOGRAFIA"
DESCRIPTION:
URL:https://chapito.org/calendario/cinetendinha-na-cinetenda-do-chapito-cinema-e-fotografia/
LOCATION:Chapitô\, Costa do castelo\, -Lisboa\, Portugal
CATEGORIES:Tertúlias
ATTACH;FMTTYPE=image/jpeg:https://chapito.org/wp-content/uploads/2026/03/março-cientendinha.jpg
END:VEVENT
BEGIN:VEVENT
DTSTART;TZID=Europe/Lisbon:20260325T213000
DTEND;TZID=Europe/Lisbon:20260325T233000
DTSTAMP:20260421T195322
CREATED:20260218T145708Z
LAST-MODIFIED:20260327T184737Z
UID:15944-1774474200-1774481400@chapito.org
SUMMARY:Encontro de Bambas | Quartas de Samba
DESCRIPTION:
URL:https://chapito.org/calendario/encontro-de-bambas-quartas-de-samba-39/
LOCATION:Chapitô\, Costa do castelo\, -Lisboa\, Portugal
CATEGORIES:Música ao Vivo
ATTACH;FMTTYPE=image/jpeg:https://chapito.org/wp-content/uploads/2023/09/encontro-de-bambas.jpg
END:VEVENT
BEGIN:VEVENT
DTSTART;TZID=Europe/Lisbon:20260327T213000
DTEND;TZID=Europe/Lisbon:20260327T233000
DTSTAMP:20260421T195322
CREATED:20260218T182923Z
LAST-MODIFIED:20260327T183943Z
UID:15952-1774647000-1774654200@chapito.org
SUMMARY:Samba dos Democratas
DESCRIPTION:
URL:https://chapito.org/calendario/samba-dos-democratas-26/
LOCATION:Chapitô\, Costa do castelo\, -Lisboa\, Portugal
CATEGORIES:Música ao Vivo
ATTACH;FMTTYPE=image/jpeg:https://chapito.org/wp-content/uploads/2025/10/samba-do-democratas.jpg
END:VEVENT
BEGIN:VEVENT
DTSTART;TZID=Europe/Lisbon:20260330T213000
DTEND;TZID=Europe/Lisbon:20260330T233000
DTSTAMP:20260421T195322
CREATED:20260210T191837Z
LAST-MODIFIED:20260327T183959Z
UID:15931-1774906200-1774913400@chapito.org
SUMMARY:Clube do Choro de Lisboa
DESCRIPTION:
URL:https://chapito.org/calendario/clube-do-choro-de-lisboa-78/
LOCATION:Chapitô\, Costa do castelo\, -Lisboa\, Portugal
CATEGORIES:Música ao Vivo
ATTACH;FMTTYPE=image/jpeg:https://chapito.org/wp-content/uploads/2022/02/barto3.jpg
END:VEVENT
BEGIN:VEVENT
DTSTART;TZID=Europe/Lisbon:20260401T213000
DTEND;TZID=Europe/Lisbon:20260401T233000
DTSTAMP:20260421T195322
CREATED:20260318T170733Z
LAST-MODIFIED:20260327T184121Z
UID:16027-1775079000-1775086200@chapito.org
SUMMARY:Encontro de Bambas | Quartas de Samba
DESCRIPTION:
URL:https://chapito.org/calendario/encontro-de-bambas-quartas-de-samba-40/
LOCATION:Chapitô\, Costa do castelo\, -Lisboa\, Portugal
CATEGORIES:Música ao Vivo
ATTACH;FMTTYPE=image/jpeg:https://chapito.org/wp-content/uploads/2023/09/encontro-de-bambas.jpg
END:VEVENT
BEGIN:VEVENT
DTSTART;TZID=Europe/Lisbon:20260402T213000
DTEND;TZID=Europe/Lisbon:20260402T233000
DTSTAMP:20260421T195322
CREATED:20260320T153207Z
LAST-MODIFIED:20260327T184204Z
UID:16051-1775165400-1775172600@chapito.org
SUMMARY:Jam do Pika
DESCRIPTION:
URL:https://chapito.org/calendario/jam-do-pika/
LOCATION:Chapitô\, Costa do castelo\, -Lisboa\, Portugal
CATEGORIES:Música ao Vivo
ATTACH;FMTTYPE=image/jpeg:https://chapito.org/wp-content/uploads/2025/05/barto.jpg
END:VEVENT
BEGIN:VEVENT
DTSTART;TZID=Europe/Lisbon:20260403T213000
DTEND;TZID=Europe/Lisbon:20260403T233000
DTSTAMP:20260421T195322
CREATED:20260318T171159Z
LAST-MODIFIED:20260327T184229Z
UID:16037-1775251800-1775259000@chapito.org
SUMMARY:Samba dos Democratas
DESCRIPTION:
URL:https://chapito.org/calendario/samba-dos-democratas-27/
LOCATION:Chapitô\, Costa do castelo\, -Lisboa\, Portugal
CATEGORIES:Música ao Vivo
ATTACH;FMTTYPE=image/jpeg:https://chapito.org/wp-content/uploads/2025/10/samba-do-democratas.jpg
END:VEVENT
BEGIN:VEVENT
DTSTART;TZID=Europe/Lisbon:20260404T213000
DTEND;TZID=Europe/Lisbon:20260404T223000
DTSTAMP:20260421T195322
CREATED:20260320T152902Z
LAST-MODIFIED:20260320T152902Z
UID:16045-1775338200-1775341800@chapito.org
SUMMARY:Colar de Rapariga
DESCRIPTION:
URL:https://chapito.org/calendario/colar-de-rapariga-3/
LOCATION:Chapitô\, Costa do castelo\, -Lisboa\, Portugal
CATEGORIES:Música ao Vivo
ATTACH;FMTTYPE=image/jpeg:https://chapito.org/wp-content/uploads/2025/05/barto.jpg
END:VEVENT
BEGIN:VEVENT
DTSTART;TZID=Europe/Lisbon:20260406T213000
DTEND;TZID=Europe/Lisbon:20260406T233000
DTSTAMP:20260421T195322
CREATED:20260318T165330Z
LAST-MODIFIED:20260327T184722Z
UID:16019-1775511000-1775518200@chapito.org
SUMMARY:Clube do Choro de Lisboa
DESCRIPTION:
URL:https://chapito.org/calendario/clube-do-choro-de-lisboa-79/
LOCATION:Chapitô\, Costa do castelo\, -Lisboa\, Portugal
CATEGORIES:Música ao Vivo
ATTACH;FMTTYPE=image/jpeg:https://chapito.org/wp-content/uploads/2022/02/barto3.jpg
END:VEVENT
BEGIN:VEVENT
DTSTART;TZID=Europe/Lisbon:20260408T213000
DTEND;TZID=Europe/Lisbon:20260408T233000
DTSTAMP:20260421T195322
CREATED:20260318T170813Z
LAST-MODIFIED:20260327T184707Z
UID:16029-1775683800-1775691000@chapito.org
SUMMARY:Encontro de Bambas | Quartas de Samba
DESCRIPTION:
URL:https://chapito.org/calendario/encontro-de-bambas-quartas-de-samba-41/
LOCATION:Chapitô\, Costa do castelo\, -Lisboa\, Portugal
CATEGORIES:Música ao Vivo
ATTACH;FMTTYPE=image/jpeg:https://chapito.org/wp-content/uploads/2023/09/encontro-de-bambas.jpg
END:VEVENT
BEGIN:VEVENT
DTSTART;TZID=Europe/Lisbon:20260410T210000
DTEND;TZID=Europe/Lisbon:20260410T220000
DTSTAMP:20260421T195322
CREATED:20260401T163802Z
LAST-MODIFIED:20260401T163802Z
UID:16073-1775854800-1775858400@chapito.org
SUMMARY:Tábua de Copos
DESCRIPTION:
URL:https://chapito.org/calendario/tabua-de-copos/
LOCATION:Chapitô\, Costa do castelo\, -Lisboa\, Portugal
CATEGORIES:Espetáculos
ATTACH;FMTTYPE=image/jpeg:https://chapito.org/wp-content/uploads/2026/04/Tabua-de-Copos_3ano.jpeg
END:VEVENT
BEGIN:VEVENT
DTSTART;TZID=Europe/Lisbon:20260410T213000
DTEND;TZID=Europe/Lisbon:20260410T233000
DTSTAMP:20260421T195322
CREATED:20260318T171249Z
LAST-MODIFIED:20260327T184651Z
UID:16039-1775856600-1775863800@chapito.org
SUMMARY:Samba dos Democratas
DESCRIPTION:
URL:https://chapito.org/calendario/samba-dos-democratas-28/
LOCATION:Chapitô\, Costa do castelo\, -Lisboa\, Portugal
CATEGORIES:Música ao Vivo
ATTACH;FMTTYPE=image/jpeg:https://chapito.org/wp-content/uploads/2025/10/samba-do-democratas.jpg
END:VEVENT
BEGIN:VEVENT
DTSTART;TZID=Europe/Lisbon:20260411T213000
DTEND;TZID=Europe/Lisbon:20260411T233000
DTSTAMP:20260421T195322
CREATED:20260320T152955Z
LAST-MODIFIED:20260327T184620Z
UID:16047-1775943000-1775950200@chapito.org
SUMMARY:Samba da Ampulheta
DESCRIPTION:
URL:https://chapito.org/calendario/samba-da-ampulheta/
LOCATION:Chapitô\, Costa do castelo\, -Lisboa\, Portugal
CATEGORIES:Música ao Vivo
ATTACH;FMTTYPE=image/jpeg:https://chapito.org/wp-content/uploads/2025/05/barto.jpg
END:VEVENT
BEGIN:VEVENT
DTSTART;TZID=Europe/Lisbon:20260413T190000
DTEND;TZID=Europe/Lisbon:20260413T200000
DTSTAMP:20260421T195322
CREATED:20260320T154448Z
LAST-MODIFIED:20260320T154448Z
UID:16066-1776106800-1776110400@chapito.org
SUMMARY:CINETENDINHA NA CINETENDA CHAPITÔ “Que Tal Cinema Queer! Como Estamos Disto?!”
DESCRIPTION:Com Fernando Santos (Deborah Krystall) \nDia 13 de Abril\, às 19h00
URL:https://chapito.org/calendario/cinetendinha-na-cinetenda-chapito-que-tal-cinema-queer-como-estamos-disto/
LOCATION:Chapitô\, Costa do castelo\, -Lisboa\, Portugal
CATEGORIES:Tertúlias
ATTACH;FMTTYPE=image/jpeg:https://chapito.org/wp-content/uploads/2026/03/QUe-tal-cinema-queer.jpg
END:VEVENT
BEGIN:VEVENT
DTSTART;TZID=Europe/Lisbon:20260413T213000
DTEND;TZID=Europe/Lisbon:20260413T233000
DTSTAMP:20260421T195322
CREATED:20260318T165415Z
LAST-MODIFIED:20260327T184557Z
UID:16021-1776115800-1776123000@chapito.org
SUMMARY:Clube do Choro de Lisboa
DESCRIPTION:
URL:https://chapito.org/calendario/clube-do-choro-de-lisboa-80/
LOCATION:Chapitô\, Costa do castelo\, -Lisboa\, Portugal
CATEGORIES:Música ao Vivo
ATTACH;FMTTYPE=image/jpeg:https://chapito.org/wp-content/uploads/2022/02/barto3.jpg
END:VEVENT
BEGIN:VEVENT
DTSTART;TZID=Europe/Lisbon:20260415T213000
DTEND;TZID=Europe/Lisbon:20260415T233000
DTSTAMP:20260421T195322
CREATED:20260318T170847Z
LAST-MODIFIED:20260327T184535Z
UID:16031-1776288600-1776295800@chapito.org
SUMMARY:Encontro de Bambas | Quartas de Samba
DESCRIPTION:
URL:https://chapito.org/calendario/encontro-de-bambas-quartas-de-samba-42/
LOCATION:Chapitô\, Costa do castelo\, -Lisboa\, Portugal
CATEGORIES:Música ao Vivo
ATTACH;FMTTYPE=image/jpeg:https://chapito.org/wp-content/uploads/2023/09/encontro-de-bambas.jpg
END:VEVENT
BEGIN:VEVENT
DTSTART;TZID=Europe/Lisbon:20260416T213000
DTEND;TZID=Europe/Lisbon:20260416T223000
DTSTAMP:20260421T195322
CREATED:20260320T153325Z
LAST-MODIFIED:20260320T153325Z
UID:16053-1776375000-1776378600@chapito.org
SUMMARY:Largo da Cumbia + Manifesta
DESCRIPTION:
URL:https://chapito.org/calendario/largo-da-cumbia-manifesta/
LOCATION:Chapitô\, Costa do castelo\, -Lisboa\, Portugal
CATEGORIES:Música ao Vivo
ATTACH;FMTTYPE=image/jpeg:https://chapito.org/wp-content/uploads/2025/05/barto.jpg
END:VEVENT
BEGIN:VEVENT
DTSTART;TZID=Europe/Lisbon:20260417T190000
DTEND;TZID=Europe/Lisbon:20260417T230000
DTSTAMP:20260421T195322
CREATED:20260320T153940Z
LAST-MODIFIED:20260320T153940Z
UID:16059-1776452400-1776466800@chapito.org
SUMMARY:TERRA CRIATIVA POP UP
DESCRIPTION:Em Abril\, a Associação Terra Criativa traz ao Chapitô uma Feira com Cerâmica\, Cestaria\, Cianotipia\, Tinturaria natural e outros artesanatos inspirados na natureza\, aproximando o público da produção artesanal.
URL:https://chapito.org/calendario/terra-criativa-pop-up/
LOCATION:Chapitô\, Costa do castelo\, -Lisboa\, Portugal
CATEGORIES:Espetáculos
ATTACH;FMTTYPE=image/jpeg:https://chapito.org/wp-content/uploads/2026/03/shop-makers.jpg
END:VEVENT
END:VCALENDAR