BEGIN:VCALENDAR
VERSION:2.0
PRODID:-//Chapitô - ECPv6.15.20//NONSGML v1.0//EN
CALSCALE:GREGORIAN
METHOD:PUBLISH
X-ORIGINAL-URL:https://chapito.org
X-WR-CALDESC:Eventos para Chapitô
REFRESH-INTERVAL;VALUE=DURATION:PT1H
X-Robots-Tag:noindex
X-PUBLISHED-TTL:PT1H
BEGIN:VTIMEZONE
TZID:Europe/Lisbon
BEGIN:DAYLIGHT
TZOFFSETFROM:+0000
TZOFFSETTO:+0100
TZNAME:WEST
DTSTART:20250330T010000
END:DAYLIGHT
BEGIN:STANDARD
TZOFFSETFROM:+0100
TZOFFSETTO:+0000
TZNAME:WET
DTSTART:20251026T010000
END:STANDARD
BEGIN:DAYLIGHT
TZOFFSETFROM:+0000
TZOFFSETTO:+0100
TZNAME:WEST
DTSTART:20260329T010000
END:DAYLIGHT
BEGIN:STANDARD
TZOFFSETFROM:+0100
TZOFFSETTO:+0000
TZNAME:WET
DTSTART:20261025T010000
END:STANDARD
BEGIN:DAYLIGHT
TZOFFSETFROM:+0000
TZOFFSETTO:+0100
TZNAME:WEST
DTSTART:20270328T010000
END:DAYLIGHT
BEGIN:STANDARD
TZOFFSETFROM:+0100
TZOFFSETTO:+0000
TZNAME:WET
DTSTART:20271031T010000
END:STANDARD
END:VTIMEZONE
BEGIN:VEVENT
DTSTART;TZID=Europe/Lisbon:20260413T190000
DTEND;TZID=Europe/Lisbon:20260413T200000
DTSTAMP:20260421T193827
CREATED:20260320T154448Z
LAST-MODIFIED:20260320T154448Z
UID:16066-1776106800-1776110400@chapito.org
SUMMARY:CINETENDINHA NA CINETENDA CHAPITÔ “Que Tal Cinema Queer! Como Estamos Disto?!”
DESCRIPTION:Com Fernando Santos (Deborah Krystall) \nDia 13 de Abril\, às 19h00
URL:https://chapito.org/calendario/cinetendinha-na-cinetenda-chapito-que-tal-cinema-queer-como-estamos-disto/
LOCATION:Chapitô\, Costa do castelo\, -Lisboa\, Portugal
CATEGORIES:Tertúlias
ATTACH;FMTTYPE=image/jpeg:https://chapito.org/wp-content/uploads/2026/03/QUe-tal-cinema-queer.jpg
END:VEVENT
BEGIN:VEVENT
DTSTART;TZID=Europe/Lisbon:20260413T213000
DTEND;TZID=Europe/Lisbon:20260413T233000
DTSTAMP:20260421T193827
CREATED:20260318T165415Z
LAST-MODIFIED:20260327T184557Z
UID:16021-1776115800-1776123000@chapito.org
SUMMARY:Clube do Choro de Lisboa
DESCRIPTION:
URL:https://chapito.org/calendario/clube-do-choro-de-lisboa-80/
LOCATION:Chapitô\, Costa do castelo\, -Lisboa\, Portugal
CATEGORIES:Música ao Vivo
ATTACH;FMTTYPE=image/jpeg:https://chapito.org/wp-content/uploads/2022/02/barto3.jpg
END:VEVENT
BEGIN:VEVENT
DTSTART;TZID=Europe/Lisbon:20260415T213000
DTEND;TZID=Europe/Lisbon:20260415T233000
DTSTAMP:20260421T193827
CREATED:20260318T170847Z
LAST-MODIFIED:20260327T184535Z
UID:16031-1776288600-1776295800@chapito.org
SUMMARY:Encontro de Bambas | Quartas de Samba
DESCRIPTION:
URL:https://chapito.org/calendario/encontro-de-bambas-quartas-de-samba-42/
LOCATION:Chapitô\, Costa do castelo\, -Lisboa\, Portugal
CATEGORIES:Música ao Vivo
ATTACH;FMTTYPE=image/jpeg:https://chapito.org/wp-content/uploads/2023/09/encontro-de-bambas.jpg
END:VEVENT
BEGIN:VEVENT
DTSTART;TZID=Europe/Lisbon:20260416T213000
DTEND;TZID=Europe/Lisbon:20260416T223000
DTSTAMP:20260421T193827
CREATED:20260320T153325Z
LAST-MODIFIED:20260320T153325Z
UID:16053-1776375000-1776378600@chapito.org
SUMMARY:Largo da Cumbia + Manifesta
DESCRIPTION:
URL:https://chapito.org/calendario/largo-da-cumbia-manifesta/
LOCATION:Chapitô\, Costa do castelo\, -Lisboa\, Portugal
CATEGORIES:Música ao Vivo
ATTACH;FMTTYPE=image/jpeg:https://chapito.org/wp-content/uploads/2025/05/barto.jpg
END:VEVENT
BEGIN:VEVENT
DTSTART;TZID=Europe/Lisbon:20260417T190000
DTEND;TZID=Europe/Lisbon:20260417T230000
DTSTAMP:20260421T193827
CREATED:20260320T153940Z
LAST-MODIFIED:20260320T153940Z
UID:16059-1776452400-1776466800@chapito.org
SUMMARY:TERRA CRIATIVA POP UP
DESCRIPTION:Em Abril\, a Associação Terra Criativa traz ao Chapitô uma Feira com Cerâmica\, Cestaria\, Cianotipia\, Tinturaria natural e outros artesanatos inspirados na natureza\, aproximando o público da produção artesanal.
URL:https://chapito.org/calendario/terra-criativa-pop-up/
LOCATION:Chapitô\, Costa do castelo\, -Lisboa\, Portugal
CATEGORIES:Espetáculos
ATTACH;FMTTYPE=image/jpeg:https://chapito.org/wp-content/uploads/2026/03/shop-makers.jpg
END:VEVENT
BEGIN:VEVENT
DTSTART;TZID=Europe/Lisbon:20260417T213000
DTEND;TZID=Europe/Lisbon:20260417T233000
DTSTAMP:20260421T193827
CREATED:20260318T171323Z
LAST-MODIFIED:20260327T184508Z
UID:16041-1776461400-1776468600@chapito.org
SUMMARY:Samba dos Democratas
DESCRIPTION:
URL:https://chapito.org/calendario/samba-dos-democratas-29/
LOCATION:Chapitô\, Costa do castelo\, -Lisboa\, Portugal
CATEGORIES:Música ao Vivo
ATTACH;FMTTYPE=image/jpeg:https://chapito.org/wp-content/uploads/2025/10/samba-do-democratas.jpg
END:VEVENT
BEGIN:VEVENT
DTSTART;TZID=Europe/Lisbon:20260418T140000
DTEND;TZID=Europe/Lisbon:20260418T230000
DTSTAMP:20260421T193827
CREATED:20260320T154032Z
LAST-MODIFIED:20260320T154032Z
UID:16062-1776520800-1776553200@chapito.org
SUMMARY:TERRA CRIATIVA POP UP
DESCRIPTION:Em Abril\, a Associação Terra Criativa traz ao Chapitô uma Feira com Cerâmica\, Cestaria\, Cianotipia\, Tinturaria natural e outros artesanatos inspirados na natureza\, aproximando o público da produção artesanal.
URL:https://chapito.org/calendario/terra-criativa-pop-up-2/
LOCATION:Chapitô\, Costa do castelo\, -Lisboa\, Portugal
CATEGORIES:Espetáculos
END:VEVENT
BEGIN:VEVENT
DTSTART;TZID=Europe/Lisbon:20260418T213000
DTEND;TZID=Europe/Lisbon:20260418T233000
DTSTAMP:20260421T193827
CREATED:20260320T153037Z
LAST-MODIFIED:20260327T184440Z
UID:16049-1776547800-1776555000@chapito.org
SUMMARY:Mama Demba
DESCRIPTION:
URL:https://chapito.org/calendario/mama-demba/
LOCATION:Chapitô\, Costa do castelo\, -Lisboa\, Portugal
CATEGORIES:Música ao Vivo
ATTACH;FMTTYPE=image/jpeg:https://chapito.org/wp-content/uploads/2025/05/barto.jpg
END:VEVENT
BEGIN:VEVENT
DTSTART;TZID=Europe/Lisbon:20260419T140000
DTEND;TZID=Europe/Lisbon:20260419T230000
DTSTAMP:20260421T193827
CREATED:20260320T154134Z
LAST-MODIFIED:20260320T154134Z
UID:16064-1776607200-1776639600@chapito.org
SUMMARY:TERRA CRIATIVA POP UP
DESCRIPTION:Em Abril\, a Associação Terra Criativa traz ao Chapitô uma Feira com Cerâmica\, Cestaria\, Cianotipia\, Tinturaria natural e outros artesanatos inspirados na natureza\, aproximando o público da produção artesanal.
URL:https://chapito.org/calendario/terra-criativa-pop-up-3/
LOCATION:Chapitô\, Costa do castelo\, -Lisboa\, Portugal
CATEGORIES:Espetáculos
ATTACH;FMTTYPE=image/jpeg:https://chapito.org/wp-content/uploads/2026/03/shop-makers.jpg
END:VEVENT
BEGIN:VEVENT
DTSTART;TZID=Europe/Lisbon:20260420T213000
DTEND;TZID=Europe/Lisbon:20260420T233000
DTSTAMP:20260421T193827
CREATED:20260318T165503Z
LAST-MODIFIED:20260327T184421Z
UID:16023-1776720600-1776727800@chapito.org
SUMMARY:Clube do Choro de Lisboa
DESCRIPTION:
URL:https://chapito.org/calendario/clube-do-choro-de-lisboa-81/
LOCATION:Chapitô\, Costa do castelo\, -Lisboa\, Portugal
CATEGORIES:Música ao Vivo
ATTACH;FMTTYPE=image/jpeg:https://chapito.org/wp-content/uploads/2022/02/barto3.jpg
END:VEVENT
BEGIN:VEVENT
DTSTART;TZID=Europe/Lisbon:20260422T213000
DTEND;TZID=Europe/Lisbon:20260422T233000
DTSTAMP:20260421T193827
CREATED:20260318T170931Z
LAST-MODIFIED:20260327T184407Z
UID:16033-1776893400-1776900600@chapito.org
SUMMARY:Encontro de Bambas | Quartas de Samba
DESCRIPTION:
URL:https://chapito.org/calendario/encontro-de-bambas-quartas-de-samba-43/
LOCATION:Chapitô\, Costa do castelo\, -Lisboa\, Portugal
CATEGORIES:Música ao Vivo
ATTACH;FMTTYPE=image/jpeg:https://chapito.org/wp-content/uploads/2023/09/encontro-de-bambas.jpg
END:VEVENT
BEGIN:VEVENT
DTSTART;TZID=Europe/Lisbon:20260423T213000
DTEND;TZID=Europe/Lisbon:20260423T233000
DTSTAMP:20260421T193827
CREATED:20260320T153412Z
LAST-MODIFIED:20260327T184353Z
UID:16055-1776979800-1776987000@chapito.org
SUMMARY:Jam do Pika
DESCRIPTION:
URL:https://chapito.org/calendario/jam-do-pika-2/
LOCATION:Chapitô\, Costa do castelo\, -Lisboa\, Portugal
CATEGORIES:Música ao Vivo
ATTACH;FMTTYPE=image/jpeg:https://chapito.org/wp-content/uploads/2025/05/barto.jpg
END:VEVENT
BEGIN:VEVENT
DTSTART;TZID=Europe/Lisbon:20260424T213000
DTEND;TZID=Europe/Lisbon:20260424T233000
DTSTAMP:20260421T193827
CREATED:20260318T171408Z
LAST-MODIFIED:20260327T184330Z
UID:16043-1777066200-1777073400@chapito.org
SUMMARY:Samba dos Democratas
DESCRIPTION:
URL:https://chapito.org/calendario/samba-dos-democratas-30/
CATEGORIES:Música ao Vivo
ATTACH;FMTTYPE=image/jpeg:https://chapito.org/wp-content/uploads/2025/10/samba-do-democratas.jpg
END:VEVENT
BEGIN:VEVENT
DTSTART;TZID=Europe/Lisbon:20260427T213000
DTEND;TZID=Europe/Lisbon:20260427T233000
DTSTAMP:20260421T193827
CREATED:20260318T165707Z
LAST-MODIFIED:20260327T184312Z
UID:16025-1777325400-1777332600@chapito.org
SUMMARY:Clube do Choro de Lisboa
DESCRIPTION:
URL:https://chapito.org/calendario/clube-do-choro-de-lisboa-82/
LOCATION:Chapitô\, Costa do castelo\, -Lisboa\, Portugal
CATEGORIES:Música ao Vivo
ATTACH;FMTTYPE=image/jpeg:https://chapito.org/wp-content/uploads/2022/02/barto3.jpg
END:VEVENT
BEGIN:VEVENT
DTSTART;TZID=Europe/Lisbon:20260429T213000
DTEND;TZID=Europe/Lisbon:20260429T233000
DTSTAMP:20260421T193827
CREATED:20260318T171003Z
LAST-MODIFIED:20260327T184256Z
UID:16035-1777498200-1777505400@chapito.org
SUMMARY:Encontro de Bambas | Quartas de Samba
DESCRIPTION:
URL:https://chapito.org/calendario/encontro-de-bambas-quartas-de-samba-44/
LOCATION:Chapitô\, Costa do castelo\, -Lisboa\, Portugal
CATEGORIES:Música ao Vivo
ATTACH;FMTTYPE=image/jpeg:https://chapito.org/wp-content/uploads/2023/09/encontro-de-bambas.jpg
END:VEVENT
BEGIN:VEVENT
DTSTART;TZID=Europe/Lisbon:20260430T213000
DTEND;TZID=Europe/Lisbon:20260430T233000
DTSTAMP:20260421T193827
CREATED:20260320T153457Z
LAST-MODIFIED:20260327T184243Z
UID:16057-1777584600-1777591800@chapito.org
SUMMARY:San La Muerte Cumbia Club
DESCRIPTION:
URL:https://chapito.org/calendario/san-la-muerte-cumbia-club/
LOCATION:Chapitô\, Costa do castelo\, -Lisboa\, Portugal
CATEGORIES:Música ao Vivo
ATTACH;FMTTYPE=image/jpeg:https://chapito.org/wp-content/uploads/2025/05/barto.jpg
END:VEVENT
BEGIN:VEVENT
DTSTART;TZID=Europe/Lisbon:20260501T210000
DTEND;TZID=Europe/Lisbon:20260501T220000
DTSTAMP:20260421T193827
CREATED:20260417T175923Z
LAST-MODIFIED:20260417T180231Z
UID:16116-1777669200-1777672800@chapito.org
SUMMARY:19º CICLO DE MULHERES PALHAÇAS
DESCRIPTION:Espetáculo de Clown teatral – CHOU!
URL:https://chapito.org/calendario/19o-ciclo-de-mulheres-palhacas/
LOCATION:Chapitô\, Costa do castelo\, -Lisboa\, Portugal
CATEGORIES:Espetáculos
ATTACH;FMTTYPE=image/jpeg:https://chapito.org/wp-content/uploads/2026/04/1-e-2-de-Maio-às-21h-e-no-dia-3-de-Maio-às-17h-Entrada-livre.-passa-chapéu.jpg
END:VEVENT
BEGIN:VEVENT
DTSTART;TZID=Europe/Lisbon:20260501T213000
DTEND;TZID=Europe/Lisbon:20260501T213000
DTSTAMP:20260421T193827
CREATED:20260417T151316Z
LAST-MODIFIED:20260417T152003Z
UID:16105-1777671000-1777671000@chapito.org
SUMMARY:Samba dos Democratas
DESCRIPTION:
URL:https://chapito.org/calendario/samba-dos-democratas-31/
LOCATION:Chapitô\, Costa do castelo\, -Lisboa\, Portugal
CATEGORIES:Música ao Vivo
ATTACH;FMTTYPE=image/jpeg:https://chapito.org/wp-content/uploads/2025/10/samba-do-democratas.jpg
END:VEVENT
BEGIN:VEVENT
DTSTART;TZID=Europe/Lisbon:20260502T210000
DTEND;TZID=Europe/Lisbon:20260502T220000
DTSTAMP:20260421T193827
CREATED:20260417T180040Z
LAST-MODIFIED:20260417T180200Z
UID:16119-1777755600-1777759200@chapito.org
SUMMARY:19º CICLO DE MULHERES PALHAÇAS
DESCRIPTION:Espetáculo de Clown teatral – CHOU!
URL:https://chapito.org/calendario/19o-ciclo-de-mulheres-palhacas-2/
LOCATION:Chapitô\, Costa do castelo\, -Lisboa\, Portugal
CATEGORIES:Espetáculos
ATTACH;FMTTYPE=image/jpeg:https://chapito.org/wp-content/uploads/2026/04/1-e-2-de-Maio-às-21h-e-no-dia-3-de-Maio-às-17h-Entrada-livre.-passa-chapéu.jpg
END:VEVENT
BEGIN:VEVENT
DTSTART;TZID=Europe/Lisbon:20260502T213000
DTEND;TZID=Europe/Lisbon:20260502T213000
DTSTAMP:20260421T193827
CREATED:20260417T145149Z
LAST-MODIFIED:20260417T151031Z
UID:16079-1777757400-1777757400@chapito.org
SUMMARY:Higor Sartori apresenta 'Máquina de moer gente.
DESCRIPTION:
URL:https://chapito.org/calendario/higor-sartori-apresenta-maquina-de-moer-gente/
LOCATION:Chapitô\, Costa do castelo\, -Lisboa\, Portugal
CATEGORIES:Música ao Vivo
ATTACH;FMTTYPE=image/jpeg:https://chapito.org/wp-content/uploads/2025/05/barto.jpg
END:VEVENT
BEGIN:VEVENT
DTSTART;TZID=Europe/Lisbon:20260503T170000
DTEND;TZID=Europe/Lisbon:20260503T180000
DTSTAMP:20260421T193827
CREATED:20260417T180118Z
LAST-MODIFIED:20260417T180158Z
UID:16121-1777827600-1777831200@chapito.org
SUMMARY:19º CICLO DE MULHERES PALHAÇAS
DESCRIPTION:Espetáculo de Clown teatral – CHOU!
URL:https://chapito.org/calendario/19o-ciclo-de-mulheres-palhacas-3/
LOCATION:Chapitô\, Costa do castelo\, -Lisboa\, Portugal
CATEGORIES:Espetáculos
ATTACH;FMTTYPE=image/jpeg:https://chapito.org/wp-content/uploads/2026/04/1-e-2-de-Maio-às-21h-e-no-dia-3-de-Maio-às-17h-Entrada-livre.-passa-chapéu.jpg
END:VEVENT
BEGIN:VEVENT
DTSTART;TZID=Europe/Lisbon:20260504T213000
DTEND;TZID=Europe/Lisbon:20260504T213000
DTSTAMP:20260421T193827
CREATED:20260417T145629Z
LAST-MODIFIED:20260417T151030Z
UID:16089-1777930200-1777930200@chapito.org
SUMMARY:Clube do Choro de Lisboa
DESCRIPTION:
URL:https://chapito.org/calendario/clube-do-choro-de-lisboa-83/
LOCATION:Chapitô\, Costa do castelo\, -Lisboa\, Portugal
CATEGORIES:Música ao Vivo
ATTACH;FMTTYPE=image/jpeg:https://chapito.org/wp-content/uploads/2022/02/barto3.jpg
END:VEVENT
BEGIN:VEVENT
DTSTART;TZID=Europe/Lisbon:20260506T213000
DTEND;TZID=Europe/Lisbon:20260506T213000
DTSTAMP:20260421T193827
CREATED:20260417T145945Z
LAST-MODIFIED:20260417T151030Z
UID:16097-1778103000-1778103000@chapito.org
SUMMARY:Encontro de Bambas | Quartas de Samba
DESCRIPTION:
URL:https://chapito.org/calendario/encontro-de-bambas-quartas-de-samba-45/
LOCATION:Chapitô\, Costa do castelo\, -Lisboa\, Portugal
CATEGORIES:Música ao Vivo
ATTACH;FMTTYPE=image/jpeg:https://chapito.org/wp-content/uploads/2023/09/encontro-de-bambas.jpg
END:VEVENT
BEGIN:VEVENT
DTSTART;TZID=Europe/Lisbon:20260508T210000
DTEND;TZID=Europe/Lisbon:20260508T220000
DTSTAMP:20260421T193827
CREATED:20260420T140213Z
LAST-MODIFIED:20260420T140332Z
UID:16124-1778274000-1778277600@chapito.org
SUMMARY:19º CICLO DE MULHERES PALHAÇAS
DESCRIPTION:“Outro Momento Absurdo”
URL:https://chapito.org/calendario/19o-ciclo-de-mulher-palhacas/
LOCATION:Chapitô\, Costa do castelo\, -Lisboa\, Portugal
CATEGORIES:Espetáculos
ATTACH;FMTTYPE=image/jpeg:https://chapito.org/wp-content/uploads/2026/04/2.jpg
END:VEVENT
BEGIN:VEVENT
DTSTART;TZID=Europe/Lisbon:20260508T213000
DTEND;TZID=Europe/Lisbon:20260508T213000
DTSTAMP:20260421T193827
CREATED:20260417T151422Z
LAST-MODIFIED:20260417T152007Z
UID:16107-1778275800-1778275800@chapito.org
SUMMARY:Samba dos Democratas
DESCRIPTION:
URL:https://chapito.org/calendario/samba-dos-democratas-32/
LOCATION:Chapitô\, Costa do castelo\, -Lisboa\, Portugal
CATEGORIES:Música ao Vivo
ATTACH;FMTTYPE=image/jpeg:https://chapito.org/wp-content/uploads/2025/10/samba-do-democratas.jpg
END:VEVENT
BEGIN:VEVENT
DTSTART;TZID=Europe/Lisbon:20260509T210000
DTEND;TZID=Europe/Lisbon:20260509T220000
DTSTAMP:20260421T193827
CREATED:20260420T140455Z
LAST-MODIFIED:20260420T140455Z
UID:16127-1778360400-1778364000@chapito.org
SUMMARY:19º CICLO DE MULHERES PALHAÇAS
DESCRIPTION:“Outro Momento Absurdo”
URL:https://chapito.org/calendario/19o-ciclo-de-mulheres-palhacas-4/
LOCATION:Chapitô\, Costa do castelo\, -Lisboa\, Portugal
CATEGORIES:Espetáculos
ATTACH;FMTTYPE=image/jpeg:https://chapito.org/wp-content/uploads/2026/04/2.jpg
END:VEVENT
BEGIN:VEVENT
DTSTART;TZID=Europe/Lisbon:20260509T213000
DTEND;TZID=Europe/Lisbon:20260509T213000
DTSTAMP:20260421T193827
CREATED:20260417T145239Z
LAST-MODIFIED:20260417T151027Z
UID:16081-1778362200-1778362200@chapito.org
SUMMARY:Colar de Rapariga
DESCRIPTION:
URL:https://chapito.org/calendario/colar-de-rapariga-4/
LOCATION:Chapitô\, Costa do castelo\, -Lisboa\, Portugal
CATEGORIES:Música ao Vivo
ATTACH;FMTTYPE=image/jpeg:https://chapito.org/wp-content/uploads/2025/05/barto.jpg
END:VEVENT
BEGIN:VEVENT
DTSTART;TZID=Europe/Lisbon:20260510T170000
DTEND;TZID=Europe/Lisbon:20260510T180000
DTSTAMP:20260421T193827
CREATED:20260420T140734Z
LAST-MODIFIED:20260420T140734Z
UID:16130-1778432400-1778436000@chapito.org
SUMMARY:19º CICLO DE MULHERES PALHAÇAS
DESCRIPTION:“Outro Momento Absurdo”
URL:https://chapito.org/calendario/19o-ciclo-de-mulheres-palhacas-5/
LOCATION:Chapitô\, Costa do castelo\, -Lisboa\, Portugal
CATEGORIES:Espetáculos
ATTACH;FMTTYPE=image/jpeg:https://chapito.org/wp-content/uploads/2026/04/2.jpg
END:VEVENT
BEGIN:VEVENT
DTSTART;TZID=Europe/Lisbon:20260511T213000
DTEND;TZID=Europe/Lisbon:20260511T213000
DTSTAMP:20260421T193827
CREATED:20260417T145706Z
LAST-MODIFIED:20260417T151022Z
UID:16091-1778535000-1778535000@chapito.org
SUMMARY:Clube do Choro de Lisboa
DESCRIPTION:
URL:https://chapito.org/calendario/clube-do-choro-de-lisboa-84/
LOCATION:Chapitô\, Costa do castelo\, -Lisboa\, Portugal
CATEGORIES:Música ao Vivo
ATTACH;FMTTYPE=image/jpeg:https://chapito.org/wp-content/uploads/2022/02/barto3.jpg
END:VEVENT
BEGIN:VEVENT
DTSTART;TZID=Europe/Lisbon:20260513T213000
DTEND;TZID=Europe/Lisbon:20260513T213000
DTSTAMP:20260421T193827
CREATED:20260417T150049Z
LAST-MODIFIED:20260417T151020Z
UID:16099-1778707800-1778707800@chapito.org
SUMMARY:Encontro de Bambas | Quartas de Samba
DESCRIPTION:
URL:https://chapito.org/calendario/encontro-de-bambas-quartas-de-samba-46/
LOCATION:Chapitô\, Costa do castelo\, -Lisboa\, Portugal
CATEGORIES:Música ao Vivo
ATTACH;FMTTYPE=image/jpeg:https://chapito.org/wp-content/uploads/2023/09/encontro-de-bambas.jpg
END:VEVENT
END:VCALENDAR