BEGIN:VCALENDAR
VERSION:2.0
PRODID:-//Chapitô - ECPv6.15.20//NONSGML v1.0//EN
CALSCALE:GREGORIAN
METHOD:PUBLISH
X-ORIGINAL-URL:https://chapito.org
X-WR-CALDESC:Eventos para Chapitô
REFRESH-INTERVAL;VALUE=DURATION:PT1H
X-Robots-Tag:noindex
X-PUBLISHED-TTL:PT1H
BEGIN:VTIMEZONE
TZID:Europe/Lisbon
BEGIN:DAYLIGHT
TZOFFSETFROM:+0000
TZOFFSETTO:+0100
TZNAME:WEST
DTSTART:20250330T010000
END:DAYLIGHT
BEGIN:STANDARD
TZOFFSETFROM:+0100
TZOFFSETTO:+0000
TZNAME:WET
DTSTART:20251026T010000
END:STANDARD
BEGIN:DAYLIGHT
TZOFFSETFROM:+0000
TZOFFSETTO:+0100
TZNAME:WEST
DTSTART:20260329T010000
END:DAYLIGHT
BEGIN:STANDARD
TZOFFSETFROM:+0100
TZOFFSETTO:+0000
TZNAME:WET
DTSTART:20261025T010000
END:STANDARD
BEGIN:DAYLIGHT
TZOFFSETFROM:+0000
TZOFFSETTO:+0100
TZNAME:WEST
DTSTART:20270328T010000
END:DAYLIGHT
BEGIN:STANDARD
TZOFFSETFROM:+0100
TZOFFSETTO:+0000
TZNAME:WET
DTSTART:20271031T010000
END:STANDARD
END:VTIMEZONE
BEGIN:VEVENT
DTSTART;TZID=Europe/Lisbon:20260522T213000
DTEND;TZID=Europe/Lisbon:20260522T213000
DTSTAMP:20260421T164803
CREATED:20260417T151533Z
LAST-MODIFIED:20260417T152015Z
UID:16111-1779485400-1779485400@chapito.org
SUMMARY:Samba dos Democratas
DESCRIPTION:
URL:https://chapito.org/calendario/samba-dos-democratas-34/
LOCATION:Chapitô\, Costa do castelo\, -Lisboa\, Portugal
CATEGORIES:Música ao Vivo
ATTACH;FMTTYPE=image/jpeg:https://chapito.org/wp-content/uploads/2025/10/samba-do-democratas.jpg
END:VEVENT
BEGIN:VEVENT
DTSTART;TZID=Europe/Lisbon:20260523T213000
DTEND;TZID=Europe/Lisbon:20260523T213000
DTSTAMP:20260421T164803
CREATED:20260417T145427Z
LAST-MODIFIED:20260417T151008Z
UID:16085-1779571800-1779571800@chapito.org
SUMMARY:Pagode do Betinho
DESCRIPTION:
URL:https://chapito.org/calendario/pagode-do-betinho/
LOCATION:Chapitô\, Costa do castelo\, -Lisboa\, Portugal
CATEGORIES:Música ao Vivo
ATTACH;FMTTYPE=image/jpeg:https://chapito.org/wp-content/uploads/2025/05/barto.jpg
END:VEVENT
BEGIN:VEVENT
DTSTART;TZID=Europe/Lisbon:20260525T213000
DTEND;TZID=Europe/Lisbon:20260525T213000
DTSTAMP:20260421T164803
CREATED:20260417T145819Z
LAST-MODIFIED:20260417T151006Z
UID:16095-1779744600-1779744600@chapito.org
SUMMARY:Clube do Choro de Lisboa
DESCRIPTION:
URL:https://chapito.org/calendario/clube-do-choro-de-lisboa-86/
LOCATION:Chapitô\, Costa do castelo\, -Lisboa\, Portugal
CATEGORIES:Música ao Vivo
ATTACH;FMTTYPE=image/jpeg:https://chapito.org/wp-content/uploads/2022/02/barto3.jpg
END:VEVENT
BEGIN:VEVENT
DTSTART;TZID=Europe/Lisbon:20260527T213000
DTEND;TZID=Europe/Lisbon:20260527T213000
DTSTAMP:20260421T164803
CREATED:20260417T150203Z
LAST-MODIFIED:20260417T150923Z
UID:16103-1779917400-1779917400@chapito.org
SUMMARY:Encontro de Bambas | Quartas de Samba
DESCRIPTION:
URL:https://chapito.org/calendario/encontro-de-bambas-quartas-de-samba-48/
LOCATION:Chapitô\, Costa do castelo\, -Lisboa\, Portugal
CATEGORIES:Música ao Vivo
ATTACH;FMTTYPE=image/jpeg:https://chapito.org/wp-content/uploads/2023/09/encontro-de-bambas.jpg
END:VEVENT
BEGIN:VEVENT
DTSTART;TZID=Europe/Lisbon:20260528T233000
DTEND;TZID=Europe/Lisbon:20260528T233000
DTSTAMP:20260421T164803
CREATED:20260417T145528Z
LAST-MODIFIED:20260417T150831Z
UID:16087-1780011000-1780011000@chapito.org
SUMMARY:Jam do Pika
DESCRIPTION:
URL:https://chapito.org/calendario/jam-do-pika-3/
LOCATION:Chapitô\, Costa do castelo\, -Lisboa\, Portugal
CATEGORIES:Música ao Vivo
ATTACH;FMTTYPE=image/jpeg:https://chapito.org/wp-content/uploads/2025/05/barto.jpg
END:VEVENT
BEGIN:VEVENT
DTSTART;TZID=Europe/Lisbon:20260529T213000
DTEND;TZID=Europe/Lisbon:20260529T213000
DTSTAMP:20260421T164803
CREATED:20260417T151735Z
LAST-MODIFIED:20260417T152012Z
UID:16113-1780090200-1780090200@chapito.org
SUMMARY:Samba dos Democratas
DESCRIPTION:
URL:https://chapito.org/calendario/samba-dos-democratas-35/
LOCATION:Chapitô\, Costa do castelo\, -Lisboa\, Portugal
CATEGORIES:Música ao Vivo
ATTACH;FMTTYPE=image/jpeg:https://chapito.org/wp-content/uploads/2025/10/samba-do-democratas.jpg
END:VEVENT
END:VCALENDAR